BEGIN:VCALENDAR
VERSION:2.0
PRODID:-//New Dawn India - ECPv6.15.17.1//NONSGML v1.0//EN
CALSCALE:GREGORIAN
METHOD:PUBLISH
X-ORIGINAL-URL:https://newdawnindia.com
X-WR-CALDESC:Events for New Dawn India
REFRESH-INTERVAL;VALUE=DURATION:PT1H
X-Robots-Tag:noindex
X-PUBLISHED-TTL:PT1H
BEGIN:VTIMEZONE
TZID:Europe/London
BEGIN:DAYLIGHT
TZOFFSETFROM:+0000
TZOFFSETTO:+0100
TZNAME:BST
DTSTART:20250330T010000
END:DAYLIGHT
BEGIN:STANDARD
TZOFFSETFROM:+0100
TZOFFSETTO:+0000
TZNAME:GMT
DTSTART:20251026T010000
END:STANDARD
BEGIN:DAYLIGHT
TZOFFSETFROM:+0000
TZOFFSETTO:+0100
TZNAME:BST
DTSTART:20260329T010000
END:DAYLIGHT
BEGIN:STANDARD
TZOFFSETFROM:+0100
TZOFFSETTO:+0000
TZNAME:GMT
DTSTART:20261025T010000
END:STANDARD
BEGIN:DAYLIGHT
TZOFFSETFROM:+0000
TZOFFSETTO:+0100
TZNAME:BST
DTSTART:20270328T010000
END:DAYLIGHT
BEGIN:STANDARD
TZOFFSETFROM:+0100
TZOFFSETTO:+0000
TZNAME:GMT
DTSTART:20271031T010000
END:STANDARD
END:VTIMEZONE
BEGIN:VEVENT
DTSTART;TZID=Europe/London:20260509T100000
DTEND;TZID=Europe/London:20260509T120000
DTSTAMP:20260420T051859
CREATED:20260409T083301Z
LAST-MODIFIED:20260416T140659Z
UID:1901-1778320800-1778328000@newdawnindia.com
SUMMARY:Spring Plant and Cake Sale and Coffee Morning
DESCRIPTION:10-12 \nSaturday 9th May \nCapel Methodist Church
URL:https://newdawnindia.com/event/spring-pland-and-cake-sale-and-coffee-morning/
ATTACH;FMTTYPE=image/jpeg:https://newdawnindia.com/wp-content/uploads/2026/04/Plant-and-cake-sale-26-1.jpg
END:VEVENT
END:VCALENDAR